BEGIN:VCALENDAR
VERSION:2.0
PRODID:-//ChamberMaster//Event Calendar 2.0//EN
METHOD:PUBLISH
X-PUBLISHED-TTL:P3D
REFRESH-INTERVAL:P3D
CALSCALE:GREGORIAN
BEGIN:VEVENT
DTSTART:20190222T133000Z
DTEND:20190222T150000Z
X-MICROSOFT-CDO-ALLDAYEVENT:FALSE
SUMMARY:Eggs & Issues 2019
DESCRIPTION:
X-ALT-DESC;FMTTYPE=text/html:
LOCATION:
UID:e.249.5386
SEQUENCE:3
DTSTAMP:20260425T010940Z
URL:http://newrichmondchamber.chambermaster.com/events/details/eggs-issues-2019-5386
END:VEVENT

END:VCALENDAR
