BEGIN:VCALENDAR
VERSION:2.0
PRODID:-//ChamberMaster//Event Calendar 2.0//EN
METHOD:PUBLISH
X-PUBLISHED-TTL:P3D
REFRESH-INTERVAL:P3D
CALSCALE:GREGORIAN
BEGIN:VEVENT
DTSTART:20120613T153000Z
DTEND:20120613T163000Z
X-MICROSOFT-CDO-ALLDAYEVENT:FALSE
SUMMARY:Summer Library Program Kickoff
DESCRIPTION:Summer Library Program Kickoff!\n\n	Wednesday\, June 13\, 2012\n\n	10:30 - 11:30 am\n\n	\n\n	Friday Memorial Library\n\n	155 East 1st Street ~ New Richmond\n\n	\n\n	\n\n	Kick off the Summer Reading program with the ever popular Fantasy Corral\, a petting zoo of\n\n	exotic animals.
X-ALT-DESC;FMTTYPE=text/html:<p style="text-align: center\;">\n	<strong><span style="font-size: 18px\;">Summer Library Program Kickoff!<br />\n	Wednesday\, June 13\, 2012<br />\n	10:30 - 11:30 am<br />\n	<br />\n	Friday Memorial Library</span></strong><br />\n	<span style="font-size: 14px\;"><em>155 East 1st Street ~ New Richmond</em></span><br />\n	<br />\n	<br />\n	<strong><span style="font-size: 18px\;">Kick off the Summer Reading program with the ever popular Fantasy Corral\, a petting zoo of<br />\n	exotic animals.</span></strong></p>\n
LOCATION:C.A. Friday Memorial Library 155 East 1st Street New Richmond\, WI
UID:e.249.561
SEQUENCE:3
DTSTAMP:20260423T041856Z
URL:http://newrichmondchamber.chambermaster.com/events/details/summer-library-program-kickoff-06-13-2012-561
END:VEVENT

END:VCALENDAR
